BEGIN:VCALENDAR
VERSION:2.0
PRODID:-//Black Porsche Club of Atlanta - ECPv6.15.20//NONSGML v1.0//EN
CALSCALE:GREGORIAN
METHOD:PUBLISH
X-WR-CALNAME:Black Porsche Club of Atlanta
X-ORIGINAL-URL:https://blackporscheclubofatlanta.com
X-WR-CALDESC:Events for Black Porsche Club of Atlanta
REFRESH-INTERVAL;VALUE=DURATION:PT1H
X-Robots-Tag:noindex
X-PUBLISHED-TTL:PT1H
BEGIN:VTIMEZONE
TZID:America/New_York
BEGIN:DAYLIGHT
TZOFFSETFROM:-0500
TZOFFSETTO:-0400
TZNAME:EDT
DTSTART:20220313T070000
END:DAYLIGHT
BEGIN:STANDARD
TZOFFSETFROM:-0400
TZOFFSETTO:-0500
TZNAME:EST
DTSTART:20221106T060000
END:STANDARD
BEGIN:DAYLIGHT
TZOFFSETFROM:-0500
TZOFFSETTO:-0400
TZNAME:EDT
DTSTART:20230312T070000
END:DAYLIGHT
BEGIN:STANDARD
TZOFFSETFROM:-0400
TZOFFSETTO:-0500
TZNAME:EST
DTSTART:20231105T060000
END:STANDARD
BEGIN:DAYLIGHT
TZOFFSETFROM:-0500
TZOFFSETTO:-0400
TZNAME:EDT
DTSTART:20240310T070000
END:DAYLIGHT
BEGIN:STANDARD
TZOFFSETFROM:-0400
TZOFFSETTO:-0500
TZNAME:EST
DTSTART:20241103T060000
END:STANDARD
BEGIN:DAYLIGHT
TZOFFSETFROM:-0500
TZOFFSETTO:-0400
TZNAME:EDT
DTSTART:20250309T070000
END:DAYLIGHT
BEGIN:STANDARD
TZOFFSETFROM:-0400
TZOFFSETTO:-0500
TZNAME:EST
DTSTART:20251102T060000
END:STANDARD
BEGIN:DAYLIGHT
TZOFFSETFROM:-0500
TZOFFSETTO:-0400
TZNAME:EDT
DTSTART:20260308T070000
END:DAYLIGHT
BEGIN:STANDARD
TZOFFSETFROM:-0400
TZOFFSETTO:-0500
TZNAME:EST
DTSTART:20261101T060000
END:STANDARD
END:VTIMEZONE
BEGIN:VEVENT
DTSTART;TZID=America/New_York:20251004T080000
DTEND;TZID=America/New_York:20251004T120000
DTSTAMP:20260423T151658
CREATED:20251013T030841Z
LAST-MODIFIED:20251013T030841Z
UID:13938-1759564800-1759579200@blackporscheclubofatlanta.com
SUMMARY:2025 City of Fairburn Fall Festival Parade
DESCRIPTION:The Fairburn Fall Festival is known for hosting the most vibrant parade in the Atlanta Area. This extraordinary event promises to captivate all with its stunning display of marching bands\, floats\, corvettes\, drill teams\, mascots\, clowns\, jugglers\, celebrity guests\, politicians\, and a diverse array of other exciting participants. Drawing over 20\,000 attendees annually\, the festival is a cherished tradition that creates unforgettable experiences for participants and spectators alike.
URL:https://blackporscheclubofatlanta.com/event/2025-city-of-fairburn-fall-festival-parade/
CATEGORIES:Meet Ups
END:VEVENT
BEGIN:VEVENT
DTSTART;TZID=America/New_York:20250920T100000
DTEND;TZID=America/New_York:20250920T120000
DTSTAMP:20260423T151658
CREATED:20251013T030257Z
LAST-MODIFIED:20251013T030257Z
UID:13934-1758362400-1758369600@blackporscheclubofatlanta.com
SUMMARY:BPCA Cars & Coffee tech talk
DESCRIPTION:Join us for the BPCA Cars & Coffee Tech Talk. \n\nCome out and put your car on display and learn about the latest in paint protection film and ceramic coating.\n\nLight refreshments will be served.\nMembers check your email or GroupMe chat for details.
URL:https://blackporscheclubofatlanta.com/event/bpca-cars-coffee-tech-talk/
CATEGORIES:Meet Ups
END:VEVENT
BEGIN:VEVENT
DTSTART;TZID=America/New_York:20250308T120000
DTEND;TZID=America/New_York:20250308T153000
DTSTAMP:20260423T151658
CREATED:20250217T234945Z
LAST-MODIFIED:20250217T234945Z
UID:13066-1741435200-1741447800@blackporscheclubofatlanta.com
SUMMARY:Savannah Riverboat Cruise
DESCRIPTION:Afternoon brunch on the Savannah Riverboat Cruise featuring southern cuisine lunch. \nAfter enjoying the Cruise\, we will relax at the hotel and then enjoy the day/evening on the prominent River Street offering sight seeing\, dinner and live music. Returning to Atlanta Sunday morning. \nItinerary details in email newsletter and GroupMe.
URL:https://blackporscheclubofatlanta.com/event/savannah-riverboat-cruise/
CATEGORIES:Meet Ups,Rides
END:VEVENT
BEGIN:VEVENT
DTSTART;TZID=America/New_York:20250307T070000
DTEND;TZID=America/New_York:20250307T150000
DTSTAMP:20260423T151658
CREATED:20250217T234741Z
LAST-MODIFIED:20250217T234741Z
UID:13064-1741330800-1741359600@blackporscheclubofatlanta.com
SUMMARY:Porsche Werks Reunion
DESCRIPTION:Come see a breathtaking array of Porsches\, from rare to current models\, and everything in between! \nItinerary details in email newsletter and GroupMe.
URL:https://blackporscheclubofatlanta.com/event/porsche-werks-reunion/
CATEGORIES:Meet Ups
END:VEVENT
BEGIN:VEVENT
DTSTART;TZID=America/New_York:20250306T200000
DTEND;TZID=America/New_York:20250306T233000
DTSTAMP:20260423T151658
CREATED:20250217T234521Z
LAST-MODIFIED:20250217T234521Z
UID:13062-1741291200-1741303800@blackporscheclubofatlanta.com
SUMMARY:The Werks Mixer
DESCRIPTION:Join us on Thursday\, March 6 at 8 pm for the BPCA “Werks” Mixer. \nGet a bite to eat and play some games while you get to know other members of the BPCA while in Jacksonville for Werks Reunion. \nItinerary details in email newsletter and GroupMe.
URL:https://blackporscheclubofatlanta.com/event/the-werks-mixer/
CATEGORIES:Meet Ups
END:VEVENT
BEGIN:VEVENT
DTSTART;TZID=America/New_York:20250120T100000
DTEND;TZID=America/New_York:20250120T113000
DTSTAMP:20260423T151658
CREATED:20250217T230825Z
LAST-MODIFIED:20250217T230825Z
UID:13056-1737367200-1737372600@blackporscheclubofatlanta.com
SUMMARY:MLK Jr. Day Parade
DESCRIPTION:Join us for the annual Fayetteville MLK Jr. Day parade participation!
URL:https://blackporscheclubofatlanta.com/event/mlk-jr-day-parade/
CATEGORIES:Meet Ups
END:VEVENT
BEGIN:VEVENT
DTSTART;TZID=America/New_York:20240928T150000
DTEND;TZID=America/New_York:20240928T200000
DTSTAMP:20260423T151658
CREATED:20240805T230233Z
LAST-MODIFIED:20240807T041801Z
UID:12798-1727535600-1727553600@blackporscheclubofatlanta.com
SUMMARY:2024 BPCA Annual Cookout
DESCRIPTION:Rev up your engines and bring your appetite! We are thrilled to invite you to our 2024 Annual Black Porsche Club of Atlanta Cookout on September 28th\, 2024. \nThis is not just any cookout; it’s a celebration of our shared passion for the iconic Porsche brand\, filled with delicious food and great company. \nJoin us for an unforgettable day of camaraderie\, music and entertainment\, culinary delights\, and the pure joy of being part of our incredible community. Mark your calendars\, and let’s make this the most memorable cookout yet! \nFind the details and location in the private GroupMe chat\, Facebook Group\, or the BPCA email newsletter.
URL:https://blackporscheclubofatlanta.com/event/bpca-annual-cookout/
CATEGORIES:Meet Ups
ATTACH;FMTTYPE=image/jpeg:https://blackporscheclubofatlanta.com/wp-content/uploads/2024/08/DSC_5056r-scaled.jpg
END:VEVENT
BEGIN:VEVENT
DTSTART;TZID=America/New_York:20230923T150000
DTEND;TZID=America/New_York:20230923T200000
DTSTAMP:20260423T151658
CREATED:20230630T215729Z
LAST-MODIFIED:20230630T230055Z
UID:11650-1695481200-1695499200@blackporscheclubofatlanta.com
SUMMARY:BPCA Annual Cookout & Photoshoot
DESCRIPTION:Come celebrate with us at our annual Black Porsche Club of Atlanta cookout.\nWe also will be doing our club photoshoot at the start of the event. \nMore info will be provided on location and time via email and other channels.
URL:https://blackporscheclubofatlanta.com/event/bpca-annual-cookout-photoshoot/
CATEGORIES:Meet Ups
END:VEVENT
BEGIN:VEVENT
DTSTART;TZID=America/New_York:20230430T120000
DTEND;TZID=America/New_York:20230430T150000
DTSTAMP:20260423T151658
CREATED:20230316T010316Z
LAST-MODIFIED:20230427T023049Z
UID:11312-1682856000-1682866800@blackporscheclubofatlanta.com
SUMMARY:[External] Meet up at Pontoon Brewing
DESCRIPTION:For those who are interested in mixing it up with other P-car enthusiasts while representing the BPCA\, we share and encourage you to attend the Atlanta Porsche Enthusiasts spring event at Pontoon Brewing with host Matt LaMarsh. \n***********************************\nWe will meet up at Perimeter mall’s Red lot near Maggiano’s at 12 noon to roll into the event together \n*************************************** \nAtlanta Porsche Enthusiasts is a group of Porsche enthusiasts who get together for drives\, meet ups and discussion much like PCA or BPCA. \nPontoon Brewing is an Atlanta-based beer company brewing up radically awesome brews for the Pontoon lifestyle.
URL:https://blackporscheclubofatlanta.com/event/external-meet-up-at-pontoon-brewing/
LOCATION:Pontoon Brewing\, 8601 Dunwoody Place Building 500 Suite 500\, Sandy Springs\, GA\, 30350\, United States
CATEGORIES:Meet Ups
ATTACH;FMTTYPE=image/jpeg:https://blackporscheclubofatlanta.com/wp-content/uploads/2023/03/Atlanta-Porsche-Enthusiasts.jpg
END:VEVENT
END:VCALENDAR