BEGIN:VCALENDAR
VERSION:2.0
PRODID:-//Black Porsche Club of Atlanta - ECPv6.15.20//NONSGML v1.0//EN
CALSCALE:GREGORIAN
METHOD:PUBLISH
X-WR-CALNAME:Black Porsche Club of Atlanta
X-ORIGINAL-URL:https://blackporscheclubofatlanta.com
X-WR-CALDESC:Events for Black Porsche Club of Atlanta
REFRESH-INTERVAL;VALUE=DURATION:PT1H
X-Robots-Tag:noindex
X-PUBLISHED-TTL:PT1H
BEGIN:VTIMEZONE
TZID:America/New_York
BEGIN:DAYLIGHT
TZOFFSETFROM:-0500
TZOFFSETTO:-0400
TZNAME:EDT
DTSTART:20220313T070000
END:DAYLIGHT
BEGIN:STANDARD
TZOFFSETFROM:-0400
TZOFFSETTO:-0500
TZNAME:EST
DTSTART:20221106T060000
END:STANDARD
BEGIN:DAYLIGHT
TZOFFSETFROM:-0500
TZOFFSETTO:-0400
TZNAME:EDT
DTSTART:20230312T070000
END:DAYLIGHT
BEGIN:STANDARD
TZOFFSETFROM:-0400
TZOFFSETTO:-0500
TZNAME:EST
DTSTART:20231105T060000
END:STANDARD
BEGIN:DAYLIGHT
TZOFFSETFROM:-0500
TZOFFSETTO:-0400
TZNAME:EDT
DTSTART:20240310T070000
END:DAYLIGHT
BEGIN:STANDARD
TZOFFSETFROM:-0400
TZOFFSETTO:-0500
TZNAME:EST
DTSTART:20241103T060000
END:STANDARD
BEGIN:DAYLIGHT
TZOFFSETFROM:-0500
TZOFFSETTO:-0400
TZNAME:EDT
DTSTART:20250309T070000
END:DAYLIGHT
BEGIN:STANDARD
TZOFFSETFROM:-0400
TZOFFSETTO:-0500
TZNAME:EST
DTSTART:20251102T060000
END:STANDARD
END:VTIMEZONE
BEGIN:VEVENT
DTSTART;TZID=America/New_York:20241112T190000
DTEND;TZID=America/New_York:20241112T200000
DTSTAMP:20260423T203058
CREATED:20240111T232759Z
LAST-MODIFIED:20240111T232759Z
UID:12170-1731438000-1731441600@blackporscheclubofatlanta.com
SUMMARY:November 2024 Club Zoom meeting
DESCRIPTION:Attend our monthly BPCA meeting via Zoom. Link is provided via email and GroupMe.
URL:https://blackporscheclubofatlanta.com/event/november-2024-club-zoom-meeting/
CATEGORIES:Meetings
END:VEVENT
BEGIN:VEVENT
DTSTART;TZID=America/New_York:20241008T190000
DTEND;TZID=America/New_York:20241008T200000
DTSTAMP:20260423T203058
CREATED:20240111T232645Z
LAST-MODIFIED:20240111T232645Z
UID:12168-1728414000-1728417600@blackporscheclubofatlanta.com
SUMMARY:October 2024 Club Zoom meeting
DESCRIPTION:Attend our monthly BPCA meeting via Zoom. Link is provided via email and GroupMe.
URL:https://blackporscheclubofatlanta.com/event/october-2024-club-zoom-meeting/
CATEGORIES:Meetings
END:VEVENT
BEGIN:VEVENT
DTSTART;TZID=America/New_York:20240910T190000
DTEND;TZID=America/New_York:20240910T200000
DTSTAMP:20260423T203058
CREATED:20240111T232531Z
LAST-MODIFIED:20240111T232531Z
UID:12166-1725994800-1725998400@blackporscheclubofatlanta.com
SUMMARY:September 2024 Club Zoom meeting
DESCRIPTION:Attend our monthly BPCA meeting via Zoom. Link is provided via email and GroupMe.
URL:https://blackporscheclubofatlanta.com/event/september-2024-club-zoom-meeting/
CATEGORIES:Meetings
END:VEVENT
BEGIN:VEVENT
DTSTART;TZID=America/New_York:20240813T190000
DTEND;TZID=America/New_York:20240813T200000
DTSTAMP:20260423T203058
CREATED:20240111T232101Z
LAST-MODIFIED:20240111T232101Z
UID:12164-1723575600-1723579200@blackporscheclubofatlanta.com
SUMMARY:August 2024 Club Zoom meeting
DESCRIPTION:Attend our monthly BPCA meeting via Zoom. Link is provided via email and GroupMe.
URL:https://blackporscheclubofatlanta.com/event/august-2024-club-zoom-meeting/
CATEGORIES:Meetings
END:VEVENT
BEGIN:VEVENT
DTSTART;TZID=America/New_York:20240709T190000
DTEND;TZID=America/New_York:20240709T200000
DTSTAMP:20260423T203058
CREATED:20240114T194633Z
LAST-MODIFIED:20240114T194842Z
UID:12177-1720551600-1720555200@blackporscheclubofatlanta.com
SUMMARY:July 2024 Club Zoom Meeting
DESCRIPTION:Attend our monthly BPCA meeting via Zoom. Link is provided via email and GroupMe.
URL:https://blackporscheclubofatlanta.com/event/july-2024-club-zoom-meeting/
CATEGORIES:Meetings
END:VEVENT
BEGIN:VEVENT
DTSTART;TZID=America/New_York:20240611T190000
DTEND;TZID=America/New_York:20240611T200000
DTSTAMP:20260423T203058
CREATED:20240111T231705Z
LAST-MODIFIED:20240111T231705Z
UID:12160-1718132400-1718136000@blackporscheclubofatlanta.com
SUMMARY:June 2024 Club Zoom meeting
DESCRIPTION:Attend our monthly BPCA meeting via Zoom. Link is provided via email and GroupMe.
URL:https://blackporscheclubofatlanta.com/event/june-2024-club-zoom-meeting/
CATEGORIES:Meetings
END:VEVENT
BEGIN:VEVENT
DTSTART;TZID=America/New_York:20240514T190000
DTEND;TZID=America/New_York:20240514T200000
DTSTAMP:20260423T203058
CREATED:20240111T230237Z
LAST-MODIFIED:20240111T230514Z
UID:12157-1715713200-1715716800@blackporscheclubofatlanta.com
SUMMARY:May 2024 Club Zoom meeting
DESCRIPTION:Attend our monthly BPCA meeting via Zoom. Link is provided via email and GroupMe.
URL:https://blackporscheclubofatlanta.com/event/may-2024-club-zoom-meeting/
CATEGORIES:Meetings
END:VEVENT
BEGIN:VEVENT
DTSTART;TZID=America/New_York:20240409T190000
DTEND;TZID=America/New_York:20240409T200000
DTSTAMP:20260423T203058
CREATED:20240111T230108Z
LAST-MODIFIED:20240111T230108Z
UID:12155-1712689200-1712692800@blackporscheclubofatlanta.com
SUMMARY:April 2024 Club Zoom meeting
DESCRIPTION:Attend our monthly BPCA meeting via Zoom. Link is provided via email and GroupMe.
URL:https://blackporscheclubofatlanta.com/event/april-2024-club-zoom-meeting/
CATEGORIES:Meetings
END:VEVENT
BEGIN:VEVENT
DTSTART;TZID=America/New_York:20240312T190000
DTEND;TZID=America/New_York:20240312T200000
DTSTAMP:20260423T203058
CREATED:20240111T230045Z
LAST-MODIFIED:20240111T230045Z
UID:12153-1710270000-1710273600@blackporscheclubofatlanta.com
SUMMARY:March 2024 Club Zoom meeting
DESCRIPTION:Attend our monthly BPCA meeting via Zoom. Link is provided via email and GroupMe.
URL:https://blackporscheclubofatlanta.com/event/march-2024-club-zoom-meeting/
CATEGORIES:Meetings
END:VEVENT
BEGIN:VEVENT
DTSTART;TZID=America/New_York:20240213T190000
DTEND;TZID=America/New_York:20240213T200000
DTSTAMP:20260423T203058
CREATED:20240111T225901Z
LAST-MODIFIED:20240111T225901Z
UID:12151-1707850800-1707854400@blackporscheclubofatlanta.com
SUMMARY:February 2024 Club Zoom meeting
DESCRIPTION:Attend our monthly BPCA meeting via Zoom. Link is provided via email and GroupMe.
URL:https://blackporscheclubofatlanta.com/event/february-2024-club-zoom-meeting/
CATEGORIES:Meetings
END:VEVENT
BEGIN:VEVENT
DTSTART;TZID=America/New_York:20240109T190000
DTEND;TZID=America/New_York:20240109T200000
DTSTAMP:20260423T203058
CREATED:20240111T224737Z
LAST-MODIFIED:20240111T224737Z
UID:12149-1704826800-1704830400@blackporscheclubofatlanta.com
SUMMARY:January 2024 Club Zoom meeting
DESCRIPTION:Attend our monthly BPCA meeting via Zoom. Link is provided via email and GroupMe.
URL:https://blackporscheclubofatlanta.com/event/january-2024-club-zoom-meeting/
CATEGORIES:Meetings
END:VEVENT
BEGIN:VEVENT
DTSTART;TZID=America/New_York:20231114T190000
DTEND;TZID=America/New_York:20231114T200000
DTSTAMP:20260423T203058
CREATED:20230614T035040Z
LAST-MODIFIED:20230614T035040Z
UID:11610-1699988400-1699992000@blackporscheclubofatlanta.com
SUMMARY:November 2023 Club Zoom meeting
DESCRIPTION:Attend our monthly BPCA meeting via Zoom. Link is provided via email and GroupMe.
URL:https://blackporscheclubofatlanta.com/event/november-2023-club-zoom-meeting/
CATEGORIES:Meetings
END:VEVENT
BEGIN:VEVENT
DTSTART;TZID=America/New_York:20231010T190000
DTEND;TZID=America/New_York:20231010T200000
DTSTAMP:20260423T203058
CREATED:20230614T034045Z
LAST-MODIFIED:20230614T034045Z
UID:11608-1696964400-1696968000@blackporscheclubofatlanta.com
SUMMARY:October 2023 Club Zoom meeting
DESCRIPTION:Attend our monthly BPCA meeting via Zoom. Link is provided via email and GroupMe.
URL:https://blackporscheclubofatlanta.com/event/october-2023-club-zoom-meeting/
CATEGORIES:Meetings
END:VEVENT
BEGIN:VEVENT
DTSTART;TZID=America/New_York:20230912T190000
DTEND;TZID=America/New_York:20230912T200000
DTSTAMP:20260423T203058
CREATED:20230614T033616Z
LAST-MODIFIED:20230614T033616Z
UID:11606-1694545200-1694548800@blackporscheclubofatlanta.com
SUMMARY:September 2023 Club Zoom meeting
DESCRIPTION:Attend our monthly BPCA meeting via Zoom. Link is provided via email and GroupMe.
URL:https://blackporscheclubofatlanta.com/event/september-2023-club-zoom-meeting/
CATEGORIES:Meetings
END:VEVENT
BEGIN:VEVENT
DTSTART;TZID=America/New_York:20230808T190000
DTEND;TZID=America/New_York:20230808T200000
DTSTAMP:20260423T203058
CREATED:20230614T033519Z
LAST-MODIFIED:20230614T033519Z
UID:11604-1691521200-1691524800@blackporscheclubofatlanta.com
SUMMARY:August 2023 Club Zoom meeting
DESCRIPTION:Attend our monthly BPCA meeting via Zoom. Link is provided via email and GroupMe.
URL:https://blackporscheclubofatlanta.com/event/august-2023-club-zoom-meeting/
CATEGORIES:Meetings
END:VEVENT
BEGIN:VEVENT
DTSTART;TZID=America/New_York:20230711T190000
DTEND;TZID=America/New_York:20230711T200000
DTSTAMP:20260423T203058
CREATED:20230614T033423Z
LAST-MODIFIED:20230614T033423Z
UID:11601-1689102000-1689105600@blackporscheclubofatlanta.com
SUMMARY:July 2023 Club Zoom meeting
DESCRIPTION:Attend our monthly BPCA meeting via Zoom. Link is provided via email and GroupMe.
URL:https://blackporscheclubofatlanta.com/event/july-2023-club-zoom-meeting/
CATEGORIES:Meetings
END:VEVENT
END:VCALENDAR