BEGIN:VCALENDAR
VERSION:2.0
PRODID:-//Black Porsche Club of Atlanta - ECPv6.15.20//NONSGML v1.0//EN
CALSCALE:GREGORIAN
METHOD:PUBLISH
X-WR-CALNAME:Black Porsche Club of Atlanta
X-ORIGINAL-URL:https://blackporscheclubofatlanta.com
X-WR-CALDESC:Events for Black Porsche Club of Atlanta
REFRESH-INTERVAL;VALUE=DURATION:PT1H
X-Robots-Tag:noindex
X-PUBLISHED-TTL:PT1H
BEGIN:VTIMEZONE
TZID:America/New_York
BEGIN:DAYLIGHT
TZOFFSETFROM:-0500
TZOFFSETTO:-0400
TZNAME:EDT
DTSTART:20220313T070000
END:DAYLIGHT
BEGIN:STANDARD
TZOFFSETFROM:-0400
TZOFFSETTO:-0500
TZNAME:EST
DTSTART:20221106T060000
END:STANDARD
BEGIN:DAYLIGHT
TZOFFSETFROM:-0500
TZOFFSETTO:-0400
TZNAME:EDT
DTSTART:20230312T070000
END:DAYLIGHT
BEGIN:STANDARD
TZOFFSETFROM:-0400
TZOFFSETTO:-0500
TZNAME:EST
DTSTART:20231105T060000
END:STANDARD
BEGIN:DAYLIGHT
TZOFFSETFROM:-0500
TZOFFSETTO:-0400
TZNAME:EDT
DTSTART:20240310T070000
END:DAYLIGHT
BEGIN:STANDARD
TZOFFSETFROM:-0400
TZOFFSETTO:-0500
TZNAME:EST
DTSTART:20241103T060000
END:STANDARD
BEGIN:DAYLIGHT
TZOFFSETFROM:-0500
TZOFFSETTO:-0400
TZNAME:EDT
DTSTART:20250309T070000
END:DAYLIGHT
BEGIN:STANDARD
TZOFFSETFROM:-0400
TZOFFSETTO:-0500
TZNAME:EST
DTSTART:20251102T060000
END:STANDARD
BEGIN:DAYLIGHT
TZOFFSETFROM:-0500
TZOFFSETTO:-0400
TZNAME:EDT
DTSTART:20260308T070000
END:DAYLIGHT
BEGIN:STANDARD
TZOFFSETFROM:-0400
TZOFFSETTO:-0500
TZNAME:EST
DTSTART:20261101T060000
END:STANDARD
END:VTIMEZONE
BEGIN:VEVENT
DTSTART;TZID=America/New_York:20250725T120000
DTEND;TZID=America/New_York:20250727T150000
DTSTAMP:20260423T175829
CREATED:20250324T004454Z
LAST-MODIFIED:20250324T004454Z
UID:13089-1753444800-1753628400@blackporscheclubofatlanta.com
SUMMARY:Middle Tennessee Drive
DESCRIPTION:It’s time to shift into high gear! We’re thrilled to invite you to the 5th Annual Middle Tennessee Drive — and this year\, we’re raising the bar like never before! From July 25th to 27th\, we’ve curated the most engaging\, action-packed experience yet\, with logistics and convenience as top priorities. Every activity is within walking distance\, so you can park your Porsche and fully immerse yourself in the fun. \nFull details and meet-up location in GroupMe and email newsletter.
URL:https://blackporscheclubofatlanta.com/event/middle-tennessee-drive/
CATEGORIES:Ride
END:VEVENT
BEGIN:VEVENT
DTSTART;TZID=America/New_York:20250511T080000
DTEND;TZID=America/New_York:20250511T150000
DTSTAMP:20260423T175829
CREATED:20250512T031657Z
LAST-MODIFIED:20250512T031657Z
UID:13119-1746950400-1746975600@blackporscheclubofatlanta.com
SUMMARY:Dragon Slayer Training Drive #3
DESCRIPTION:Interested in going on “Tail of the Dragon” but you would like to get more comfortable riding in the mountains. \nCome out and join us Sat 05/24 at 8am where we will head for to the North GA Mountains for a day drive. \nAfter the conclusion we will stop and eat at a local restaurant. \nDetails and locations can be found in GroupMe or private Facebook group.
URL:https://blackporscheclubofatlanta.com/event/dragon-slayer-training-drive-3/
CATEGORIES:Ride
END:VEVENT
BEGIN:VEVENT
DTSTART;TZID=America/New_York:20250405T100000
DTEND;TZID=America/New_York:20250405T160000
DTSTAMP:20260423T175829
CREATED:20250324T003525Z
LAST-MODIFIED:20250324T003525Z
UID:13083-1743847200-1743868800@blackporscheclubofatlanta.com
SUMMARY:Ladies Drive to Roo Mountain Winery
DESCRIPTION:Ladies of BPCA\, we want you to come on out and be apart of the Ladies Drive to Roo Mountain Vineyards. \nThis is an excellent opportunity for the ladies to get together and get to know one another while doing a wine tasting. \nGentlemen\, give your significant other the keys to your Porsche so she can connect with the ladies of the group while you stay home and relax. \nItinerary details in email newsletter and GroupMe.
URL:https://blackporscheclubofatlanta.com/event/ladies-drive-to-roo-mountain-winery/
CATEGORIES:Ride
END:VEVENT
BEGIN:VEVENT
DTSTART;TZID=America/New_York:20240907T093000
DTEND;TZID=America/New_York:20240907T160000
DTSTAMP:20260423T175829
CREATED:20240222T143010Z
LAST-MODIFIED:20240223T020803Z
UID:11211-1725701400-1725724800@blackporscheclubofatlanta.com
SUMMARY:[Cruise] Amicalola Falls
DESCRIPTION:Cruise to Amicalola Falls State Park. We will depart from Town Center Mall at 9:30AM and cruise to Amicalola Falls state park [$7 parking fee]. Here we will take time to enjoy the trails and waterfall. After which we will travel to downtown Dahlonega for lunch.\nDepart: Town Center Mall – 9:30AM\nArrive: Amicalola Falls – 10:40AM [$7]\nDepart: Amicalola Falls – 12:00PM\nArrive: Bourbon Street Grille – 12:40PM
URL:https://blackporscheclubofatlanta.com/event/amicalola-falls/
CATEGORIES:Ride
ATTACH;FMTTYPE=image/png:https://blackporscheclubofatlanta.com/wp-content/uploads/2023/03/Amicalola-Falls-2.png
END:VEVENT
BEGIN:VEVENT
DTSTART;TZID=America/New_York:20240802T120000
DTEND;TZID=America/New_York:20240804T180000
DTSTAMP:20260423T175829
CREATED:20240219T170011Z
LAST-MODIFIED:20240311T190355Z
UID:11215-1722600000-1722794400@blackporscheclubofatlanta.com
SUMMARY:Destination: Middle Tennessee
DESCRIPTION:Join us for what has become an annual event\, our 4th annual Middle Tennessee Event & Cruise. We will do a group cruise to Murfreesboro\, TN. There we will check in to our event hotel\, the \, where we will begin our weekend of events: \n\nGroup Drive to Murfreesboro – 8/2\nGroup Dinner – 8/2\n??? – 8/3\n??? – 8/3\nMiddle TN Cruise – 8/4\nBPCA Brunch – 8/4\n\nCosts\nRooms: $??? per night\nLunch: Menu item dependent\nDinner: Menu item dependent Logistics\nDeparture: 12PM – Town Center Mall \nHotel Reservation Information
URL:https://blackporscheclubofatlanta.com/event/middle-tennesssee-drive/
CATEGORIES:Ride
ATTACH;FMTTYPE=image/jpeg:https://blackporscheclubofatlanta.com/wp-content/uploads/2023/03/MiddleTN.jpeg
END:VEVENT
BEGIN:VEVENT
DTSTART;TZID=America/New_York:20240629T093000
DTEND;TZID=America/New_York:20240630T180000
DTSTAMP:20260423T175829
CREATED:20240219T143011Z
LAST-MODIFIED:20240402T210620Z
UID:11214-1719653400-1719770400@blackporscheclubofatlanta.com
SUMMARY:[Drive] Tail of the Dragon & Cherohola Skyway
DESCRIPTION:BPCA drive to Tail of the Dragon and the Historic Tapoco Lodge in Robinsonville via the beautiful and scenic Cherohala Skyway. \nWe will meet up at the Town Center Mall – Macy’s lot. We will depart from this rally point and take scenic roads to Telico Plains TN where we will have lunch at the Telico Grains Bakery. From there we will drive the Cherohala Scenic Parkway enjoying some of the views from its overlooks. \nWe will complete the skyway and arrive out our destination in time for check in at the Tapoco Lodge. \nOnce settled we will tame the Tail of the Dragon\, and dependent on time visit the Fontana Dam. \nWe will return to the lodge where we will enjoy excellent food and drinks alongside the river on which the lodge is nestled. Great time and fun roads – RVPS TODAY!! \nCosts\nRooms: $309 – 417 per night\nLunch: Menu item dependent\nDinner: Menu item dependent \nLogistics\nRally Point 1: 9:30AM – Town Center Mall\nDeparture: 10AM – Town Center Mall\nLunch: 12:30 – 2:00PM\nArrive at Tapoco Lodge: ~3:30PM\nDinner: ~6:30PM \nReservation Instructions\n1) Click on the regirstration link in either the GroupMe calendar event or the Facebook calendar event\n2) Choose your room from the list by clicking “Select Accommodations”\n3) Finalize/Book room \n**Note the $100 deposit and the 30 day cancellation policy**
URL:https://blackporscheclubofatlanta.com/event/tail-of-the-dragon/
LOCATION:Historic Tapoco Lodge\, 14981 Tapoco Rd\, Robbinsville\, NC\, 28771-6885\, United States
CATEGORIES:Ride
ATTACH;FMTTYPE=image/jpeg:https://blackporscheclubofatlanta.com/wp-content/uploads/2023/03/Tapoco-Lodge.jpg
END:VEVENT
BEGIN:VEVENT
DTSTART;TZID=America/New_York:20240519T083000
DTEND;TZID=America/New_York:20240519T150000
DTSTAMP:20260423T175829
CREATED:20240209T133015Z
LAST-MODIFIED:20240518T030615Z
UID:11217-1716107400-1716130800@blackporscheclubofatlanta.com
SUMMARY:[Cruise] Brasstown Bald
DESCRIPTION:Cruise to Brasstown Bald State Park. Depart from Perimeter Mall – Green Lot\, north drive to Brasstown Bald Park to enjoy the views and museum. When done we will cruise to Helen for lunch.
URL:https://blackporscheclubofatlanta.com/event/brasstown-bald/
CATEGORIES:Ride
END:VEVENT
BEGIN:VEVENT
DTSTART;TZID=America/New_York:20240420T083000
DTEND;TZID=America/New_York:20240420T180000
DTSTAMP:20260423T175829
CREATED:20240220T133011Z
LAST-MODIFIED:20240223T021246Z
UID:11212-1713601800-1713636000@blackporscheclubofatlanta.com
SUMMARY:[Cruise] Cloudland Park
DESCRIPTION:Cruise to Cloudland Canyon State Park. We will depart from Town Center mall\, and travel scenic roads to Cloudland Canyon Park where scenic views await. From there we will head to downtown Chattanooga for lunch. \nCloudland Cayon Park – $7/day/vehicle \n 
URL:https://blackporscheclubofatlanta.com/event/cloudland-park/
CATEGORIES:Ride
ATTACH;FMTTYPE=image/png:https://blackporscheclubofatlanta.com/wp-content/uploads/2023/03/Cloudland-Coker-1.png
END:VEVENT
BEGIN:VEVENT
DTSTART;TZID=America/New_York:20230513T100000
DTEND;TZID=America/New_York:20230513T160000
DTSTAMP:20260423T175829
CREATED:20240518T130011Z
LAST-MODIFIED:20240223T012332Z
UID:11213-1683972000-1683993600@blackporscheclubofatlanta.com
SUMMARY:[Destination/Drive] Wolf Mountain Winery
DESCRIPTION:THIS IS A LIMITED PARTICIPATION EVENT – LIMIT 20 CARS \nBPCA trip to Wolf Mountain Winery in Dahlonega. There we will (optionally) participate in wine tasting of the Vineyard’s in house produced wines. We will be given a tour of the private car collection of Karl the winery owner – who has several Porsche and cars of interest. After which we will enjoy the beautiful views of the vineyards as we have lunch. RSVP TODAY!! \nCosts\nWine Tasting: $30 per person\nGarage Tour: free\nLunch: Menu item dependent \nLogistics\nDeparture: 10AM from Perimeter Mall – Green Lot.\nWine Tasting: 11:30AM\nGarage Tour: 12:30PM\nLunch: ~1:15PM
URL:https://blackporscheclubofatlanta.com/event/amp-wolf-mountain-winery/
CATEGORIES:Ride
END:VEVENT
END:VCALENDAR