BEGIN:VCALENDAR
VERSION:2.0
PRODID:-//Black Porsche Club of Atlanta - ECPv6.15.20//NONSGML v1.0//EN
CALSCALE:GREGORIAN
METHOD:PUBLISH
X-ORIGINAL-URL:https://blackporscheclubofatlanta.com
X-WR-CALDESC:Events for Black Porsche Club of Atlanta
REFRESH-INTERVAL;VALUE=DURATION:PT1H
X-Robots-Tag:noindex
X-PUBLISHED-TTL:PT1H
BEGIN:VTIMEZONE
TZID:America/New_York
BEGIN:DAYLIGHT
TZOFFSETFROM:-0500
TZOFFSETTO:-0400
TZNAME:EDT
DTSTART:20220313T070000
END:DAYLIGHT
BEGIN:STANDARD
TZOFFSETFROM:-0400
TZOFFSETTO:-0500
TZNAME:EST
DTSTART:20221106T060000
END:STANDARD
BEGIN:DAYLIGHT
TZOFFSETFROM:-0500
TZOFFSETTO:-0400
TZNAME:EDT
DTSTART:20230312T070000
END:DAYLIGHT
BEGIN:STANDARD
TZOFFSETFROM:-0400
TZOFFSETTO:-0500
TZNAME:EST
DTSTART:20231105T060000
END:STANDARD
BEGIN:DAYLIGHT
TZOFFSETFROM:-0500
TZOFFSETTO:-0400
TZNAME:EDT
DTSTART:20240310T070000
END:DAYLIGHT
BEGIN:STANDARD
TZOFFSETFROM:-0400
TZOFFSETTO:-0500
TZNAME:EST
DTSTART:20241103T060000
END:STANDARD
BEGIN:DAYLIGHT
TZOFFSETFROM:-0500
TZOFFSETTO:-0400
TZNAME:EDT
DTSTART:20250309T070000
END:DAYLIGHT
BEGIN:STANDARD
TZOFFSETFROM:-0400
TZOFFSETTO:-0500
TZNAME:EST
DTSTART:20251102T060000
END:STANDARD
END:VTIMEZONE
BEGIN:VEVENT
DTSTART;TZID=America/New_York:20240511T140000
DTEND;TZID=America/New_York:20240511T170000
DTSTAMP:20260423T180236
CREATED:20240503T122624Z
LAST-MODIFIED:20240503T123843Z
UID:12701-1715436000-1715446800@blackporscheclubofatlanta.com
SUMMARY:BPCA Wine Social
DESCRIPTION:Join us for wine\, conversation and camaraderie as we support this newly opened\, black-owned wine bar offering 120 different wines\, charcuterie\, and desserts. Family and friends are welcome!\n\n\nRevival Wine Bar\n140 West Lanier Ave\nFayetteville\, GA 30214\n\n\nRSVP by May 9\n\n[Lunch]\nA few of us will be gathering beforehand at 12:30pm for lunch at Twisted Taco. Click here for details.\n\nParking:\n– Behind the restaurant & wine bar\n– Behind the bank next door\n– Parking Lot at 9562 Glynn St N\, Fayetteville\, GA 30214\n\nhttps://revivalwines.com/? (https://revivalwines.com/?)\n\nFor questions contact:\nPatricia Dowdell\nTwyla Johnson\nGloria Powell
URL:https://blackporscheclubofatlanta.com/event/bpca-wine-social/
END:VEVENT
BEGIN:VEVENT
DTSTART;TZID=America/New_York:20240511T123000
DTEND;TZID=America/New_York:20240511T134500
DTSTAMP:20260423T180236
CREATED:20240503T121247Z
LAST-MODIFIED:20240503T121247Z
UID:12699-1715430600-1715435100@blackporscheclubofatlanta.com
SUMMARY:BPCA Member Social - Lunch
DESCRIPTION:A few of us will be gathering before the Wine Social at 12:30pm for lunch at Twisted Taco which shares the same parking lot as Revival Wines.\n\nRSVP by May 9\n\nTwisted Taco\n115 Glynn St S\nFayetteville\, GA 30214\n\nParking:\n– Behind the restaurant & wine bar\n– Behind the bank next door\n– Parking Lot at 9562 Glynn St N\, Fayetteville\, GA 30214\n\nhttps://www.twistedtaco.com/fayetteville-georgia\n\nFor questions contact:\nPatricia Dowdell\nTwyla Johnson\nGloria Powell
URL:https://blackporscheclubofatlanta.com/event/bpca-member-social-lunch/
END:VEVENT
BEGIN:VEVENT
DTSTART;TZID=America/New_York:20240420T083000
DTEND;TZID=America/New_York:20240420T180000
DTSTAMP:20260423T180236
CREATED:20240220T133011Z
LAST-MODIFIED:20240223T021246Z
UID:11212-1713601800-1713636000@blackporscheclubofatlanta.com
SUMMARY:[Cruise] Cloudland Park
DESCRIPTION:Cruise to Cloudland Canyon State Park. We will depart from Town Center mall\, and travel scenic roads to Cloudland Canyon Park where scenic views await. From there we will head to downtown Chattanooga for lunch. \nCloudland Cayon Park – $7/day/vehicle \n 
URL:https://blackporscheclubofatlanta.com/event/cloudland-park/
CATEGORIES:Ride
ATTACH;FMTTYPE=image/png:https://blackporscheclubofatlanta.com/wp-content/uploads/2023/03/Cloudland-Coker-1.png
END:VEVENT
BEGIN:VEVENT
DTSTART;TZID=America/New_York:20240409T190000
DTEND;TZID=America/New_York:20240409T200000
DTSTAMP:20260423T180236
CREATED:20240111T230108Z
LAST-MODIFIED:20240111T230108Z
UID:12155-1712689200-1712692800@blackporscheclubofatlanta.com
SUMMARY:April 2024 Club Zoom meeting
DESCRIPTION:Attend our monthly BPCA meeting via Zoom. Link is provided via email and GroupMe.
URL:https://blackporscheclubofatlanta.com/event/april-2024-club-zoom-meeting/
CATEGORIES:Meetings
END:VEVENT
BEGIN:VEVENT
DTSTART;TZID=America/New_York:20240324T090000
DTEND;TZID=America/New_York:20240324T150000
DTSTAMP:20260423T180236
CREATED:20240223T022253Z
LAST-MODIFIED:20240320T192502Z
UID:12202-1711270800-1711292400@blackporscheclubofatlanta.com
SUMMARY:[Drive] Georgia Mountain Drive
DESCRIPTION:Drive through some of the best driving roads in the North Georgia Mountains. The route will be ad hoc\, determined on the day of the event\, but between the views and the sweeping roads\, will be a drive for the Porsche owner who wants to get a glimpse into what their car can really do. After we’ve worked up an appetite we will stop in Dahlonega for a group lunch. \nMeet up at Town Center Mall – Macy’s lot.
URL:https://blackporscheclubofatlanta.com/event/drive-georgia-mountain-drive/
END:VEVENT
BEGIN:VEVENT
DTSTART;TZID=America/New_York:20240312T190000
DTEND;TZID=America/New_York:20240312T200000
DTSTAMP:20260423T180236
CREATED:20240111T230045Z
LAST-MODIFIED:20240111T230045Z
UID:12153-1710270000-1710273600@blackporscheclubofatlanta.com
SUMMARY:March 2024 Club Zoom meeting
DESCRIPTION:Attend our monthly BPCA meeting via Zoom. Link is provided via email and GroupMe.
URL:https://blackporscheclubofatlanta.com/event/march-2024-club-zoom-meeting/
CATEGORIES:Meetings
END:VEVENT
BEGIN:VEVENT
DTSTART;TZID=America/New_York:20240213T190000
DTEND;TZID=America/New_York:20240213T200000
DTSTAMP:20260423T180236
CREATED:20240111T225901Z
LAST-MODIFIED:20240111T225901Z
UID:12151-1707850800-1707854400@blackporscheclubofatlanta.com
SUMMARY:February 2024 Club Zoom meeting
DESCRIPTION:Attend our monthly BPCA meeting via Zoom. Link is provided via email and GroupMe.
URL:https://blackporscheclubofatlanta.com/event/february-2024-club-zoom-meeting/
CATEGORIES:Meetings
END:VEVENT
BEGIN:VEVENT
DTSTART;TZID=America/New_York:20240115T093000
DTEND;TZID=America/New_York:20240115T113000
DTSTAMP:20260423T180236
CREATED:20240114T194045Z
LAST-MODIFIED:20240114T194045Z
UID:12174-1705311000-1705318200@blackporscheclubofatlanta.com
SUMMARY:2024 NAACP Martin Luther King\, Jr. Holiday Parade
DESCRIPTION:The Fayette County Branch of the NAACP in conjunction with Fayette County Public Schools and Various Local Businesses and Organization is holding its Annual Martin Luther King\, Jr. Holiday Parade. Let’s come out and represent the BPCA in force like we do each year. \n\n*There is a pre-parade breakfast provided by McDonalds at the Parade Assembly point at 8:45 AM
URL:https://blackporscheclubofatlanta.com/event/2024-naacp-martin-luther-king-jr-holiday-parade/
LOCATION:Fayette County High School\, 1 Tiger Trl\, Fayetteville\, GA\, 30214
END:VEVENT
BEGIN:VEVENT
DTSTART;TZID=America/New_York:20240109T190000
DTEND;TZID=America/New_York:20240109T200000
DTSTAMP:20260423T180236
CREATED:20240111T224737Z
LAST-MODIFIED:20240111T224737Z
UID:12149-1704826800-1704830400@blackporscheclubofatlanta.com
SUMMARY:January 2024 Club Zoom meeting
DESCRIPTION:Attend our monthly BPCA meeting via Zoom. Link is provided via email and GroupMe.
URL:https://blackporscheclubofatlanta.com/event/january-2024-club-zoom-meeting/
CATEGORIES:Meetings
END:VEVENT
BEGIN:VEVENT
DTSTART;TZID=America/New_York:20231216T183000
DTEND;TZID=America/New_York:20231216T213000
DTSTAMP:20260423T180236
CREATED:20231214T230339Z
LAST-MODIFIED:20231214T230339Z
UID:12141-1702751400-1702762200@blackporscheclubofatlanta.com
SUMMARY:BPCA - Nicholas House Holiday Party
DESCRIPTION:Come out and celebrate an evening of cars\, art and music as BPCA members come together for the holidays and support the initiatives of Nicholas \n\nHouse!\n\n\nRSVP to get your tickets online at: artsocialatl.com
URL:https://blackporscheclubofatlanta.com/event/bpca-nicholas-house-holiday-party/
LOCATION:MINT art gallery\, 680 Murphy Ave SW\, Unit 2095\, Atlanta\, GA\, 30310
END:VEVENT
BEGIN:VEVENT
DTSTART;TZID=America/New_York:20231213T100000
DTEND;TZID=America/New_York:20231213T120000
DTSTAMP:20260423T180236
CREATED:20231214T230817Z
LAST-MODIFIED:20231214T230817Z
UID:12146-1702461600-1702468800@blackporscheclubofatlanta.com
SUMMARY:BPCA Holiday Toy Drive
DESCRIPTION:Look for details via email or private group channels
URL:https://blackporscheclubofatlanta.com/event/bpca-holiday-toy-drive/
END:VEVENT
BEGIN:VEVENT
DTSTART;TZID=America/New_York:20231114T190000
DTEND;TZID=America/New_York:20231114T200000
DTSTAMP:20260423T180236
CREATED:20230614T035040Z
LAST-MODIFIED:20230614T035040Z
UID:11610-1699988400-1699992000@blackporscheclubofatlanta.com
SUMMARY:November 2023 Club Zoom meeting
DESCRIPTION:Attend our monthly BPCA meeting via Zoom. Link is provided via email and GroupMe.
URL:https://blackporscheclubofatlanta.com/event/november-2023-club-zoom-meeting/
CATEGORIES:Meetings
END:VEVENT
BEGIN:VEVENT
DTSTART;TZID=America/New_York:20231106T073000
DTEND;TZID=America/New_York:20231106T170000
DTSTAMP:20260423T180236
CREATED:20230830T232132Z
LAST-MODIFIED:20230830T232305Z
UID:11770-1699255800-1699290000@blackporscheclubofatlanta.com
SUMMARY:Our Nation's Heroes Golf Tournament
DESCRIPTION:The SMGA is holding its 2nd Annual “Our Nations Heroes” Golf Tournament. This tournament remains a primary event for the SMGA to raise funds to support the recovery and rehabilitation of post-9/11 wounded and injured Veterans. Join us Monday November 6\, 2023\, at Crystal Lake Golf & Country Club in Hampton\, GA. \nLogistics\nWhen: Monday November 6th\nEvent Location: 100 Crystal Lake Blvd.\, Hampton\, GA 30228\nTime: 7:30AM \nCosts\nOne Player: $125\nFoursome: $500
URL:https://blackporscheclubofatlanta.com/event/our-nations-heroes-golf-tournament/
LOCATION:Crystal Lake Golf & Country Club\, 100 Crystal Lake Blvd\, Hampton\, GA\, 30228\, United States
CATEGORIES:Charity Events
ATTACH;FMTTYPE=image/jpeg:https://blackporscheclubofatlanta.com/wp-content/uploads/2023/08/Our-Nations-Heroes-Golf-Tournament-Flyer.jpg
END:VEVENT
BEGIN:VEVENT
DTSTART;TZID=America/New_York:20231010T190000
DTEND;TZID=America/New_York:20231010T200000
DTSTAMP:20260423T180236
CREATED:20230614T034045Z
LAST-MODIFIED:20230614T034045Z
UID:11608-1696964400-1696968000@blackporscheclubofatlanta.com
SUMMARY:October 2023 Club Zoom meeting
DESCRIPTION:Attend our monthly BPCA meeting via Zoom. Link is provided via email and GroupMe.
URL:https://blackporscheclubofatlanta.com/event/october-2023-club-zoom-meeting/
CATEGORIES:Meetings
END:VEVENT
BEGIN:VEVENT
DTSTART;TZID=America/New_York:20231008T110000
DTEND;TZID=America/New_York:20231008T160000
DTSTAMP:20260423T180236
CREATED:20230915T051047Z
LAST-MODIFIED:20230915T051315Z
UID:11882-1696762800-1696780800@blackporscheclubofatlanta.com
SUMMARY:4th Annual Cars of Chateau Event Chateau Elan Winery
DESCRIPTION:Cars of Chateau event featuring exotic and classic cars\, military vehicles\, live music\, full throttle formation flyover\, food trucks\, wine\, and much more. Proceeds to benefit the veterans of Northeast Georgia through the Chateau Elan Military Support Foundation
URL:https://blackporscheclubofatlanta.com/event/4th-annual-cars-of-chateau-event-chateau-elan-winery/
LOCATION:Chateau Elan Winery & Resort\, 100 Rue Charlemagne Dr.\, Braselton\, GA\, 30517\, United States
ATTACH;FMTTYPE=image/jpeg:https://blackporscheclubofatlanta.com/wp-content/uploads/2023/09/Chateau-elon-car-show.jpg
END:VEVENT
BEGIN:VEVENT
DTSTART;TZID=America/New_York:20230930T070000
DTEND;TZID=America/New_York:20230930T120000
DTSTAMP:20260423T180236
CREATED:20230830T224140Z
LAST-MODIFIED:20230830T224256Z
UID:11765-1696057200-1696075200@blackporscheclubofatlanta.com
SUMMARY:[Event] Prostate Cancer Awareness
DESCRIPTION:It’s time to support of the annual Prostate Cancer Awareness Walk – Run – Bike event. Each year the Black Porsche Club of Atlanta shows support for this worthy cause by showing up and showing out in our P-cars for their car show. Please make sure to participate in the car show to ensure BPCA has a strong showing. \nLogistics\nWhen: Saturday September 30th 7AM – 12PM\nMeet Up: Steel City Grill 5151 W. Fayetteville Rd.\, Atlanta\, GA 30349\nEvent Location: 1745 Phoenix Blvd.\, College Park\, GA 30349\nMeet Time: 9:00AM
URL:https://blackporscheclubofatlanta.com/event/event-prostate-cancer-awareness/
LOCATION:Prostate Venue\, 1745 Phoenix Blvd\, College Park\, GA\, 30349\, United States
CATEGORIES:Charity Events
ATTACH;FMTTYPE=image/jpeg:https://blackporscheclubofatlanta.com/wp-content/uploads/2023/08/Prostate-Cancer-Awareness.jpg
END:VEVENT
BEGIN:VEVENT
DTSTART;TZID=America/New_York:20230923T150000
DTEND;TZID=America/New_York:20230923T200000
DTSTAMP:20260423T180236
CREATED:20230630T215729Z
LAST-MODIFIED:20230630T230055Z
UID:11650-1695481200-1695499200@blackporscheclubofatlanta.com
SUMMARY:BPCA Annual Cookout & Photoshoot
DESCRIPTION:Come celebrate with us at our annual Black Porsche Club of Atlanta cookout.\nWe also will be doing our club photoshoot at the start of the event. \nMore info will be provided on location and time via email and other channels.
URL:https://blackporscheclubofatlanta.com/event/bpca-annual-cookout-photoshoot/
CATEGORIES:Meet Ups
END:VEVENT
BEGIN:VEVENT
DTSTART;TZID=America/New_York:20230912T190000
DTEND;TZID=America/New_York:20230912T200000
DTSTAMP:20260423T180236
CREATED:20230614T033616Z
LAST-MODIFIED:20230614T033616Z
UID:11606-1694545200-1694548800@blackporscheclubofatlanta.com
SUMMARY:September 2023 Club Zoom meeting
DESCRIPTION:Attend our monthly BPCA meeting via Zoom. Link is provided via email and GroupMe.
URL:https://blackporscheclubofatlanta.com/event/september-2023-club-zoom-meeting/
CATEGORIES:Meetings
END:VEVENT
BEGIN:VEVENT
DTSTART;TZID=America/New_York:20230808T190000
DTEND;TZID=America/New_York:20230808T200000
DTSTAMP:20260423T180236
CREATED:20230614T033519Z
LAST-MODIFIED:20230614T033519Z
UID:11604-1691521200-1691524800@blackporscheclubofatlanta.com
SUMMARY:August 2023 Club Zoom meeting
DESCRIPTION:Attend our monthly BPCA meeting via Zoom. Link is provided via email and GroupMe.
URL:https://blackporscheclubofatlanta.com/event/august-2023-club-zoom-meeting/
CATEGORIES:Meetings
END:VEVENT
BEGIN:VEVENT
DTSTART;TZID=America/New_York:20230805T160000
DTEND;TZID=America/New_York:20230805T210000
DTSTAMP:20260423T180236
CREATED:20230715T195523Z
LAST-MODIFIED:20230715T200429Z
UID:11720-1691251200-1691269200@blackporscheclubofatlanta.com
SUMMARY:4 Lanes Full Day Party
DESCRIPTION:
URL:https://blackporscheclubofatlanta.com/event/4-lanes-full-day-party/
LOCATION:Back Stage Atlanta\, 2505 Godby Road\, Atlanta\, GA\, 30394\, United States
ATTACH;FMTTYPE=image/png:https://blackporscheclubofatlanta.com/wp-content/uploads/2023/07/IMG_1547.png
END:VEVENT
BEGIN:VEVENT
DTSTART;TZID=America/New_York:20230711T190000
DTEND;TZID=America/New_York:20230711T200000
DTSTAMP:20260423T180236
CREATED:20230614T033423Z
LAST-MODIFIED:20230614T033423Z
UID:11601-1689102000-1689105600@blackporscheclubofatlanta.com
SUMMARY:July 2023 Club Zoom meeting
DESCRIPTION:Attend our monthly BPCA meeting via Zoom. Link is provided via email and GroupMe.
URL:https://blackporscheclubofatlanta.com/event/july-2023-club-zoom-meeting/
CATEGORIES:Meetings
END:VEVENT
BEGIN:VEVENT
DTSTART;TZID=America/New_York:20230708T103000
DTEND;TZID=America/New_York:20230708T143000
DTSTAMP:20260423T180236
CREATED:20230521T231231Z
LAST-MODIFIED:20230614T145344Z
UID:11570-1688812200-1688826600@blackporscheclubofatlanta.com
SUMMARY:Tech Talk 2 - Auto Detailing
DESCRIPTION:Join us as our expert detailer\, Gerald Foster\, gives tips and best practices in auto detailing of your ride. Take part in our spades contest while you enjoy some bar-b-que. \nLocation: 170 Hayden Ct\, Fayetteville\, GA 30215
URL:https://blackporscheclubofatlanta.com/event/tech-talk-2-auto-detailing/
ATTACH;FMTTYPE=image/jpeg:https://blackporscheclubofatlanta.com/wp-content/uploads/2023/05/Tech-Talk-2.jpeg
END:VEVENT
BEGIN:VEVENT
DTSTART;TZID=America/New_York:20230624T133000
DTEND;TZID=America/New_York:20230624T163000
DTSTAMP:20260423T180236
CREATED:20230614T145955Z
LAST-MODIFIED:20230614T145955Z
UID:11624-1687613400-1687624200@blackporscheclubofatlanta.com
SUMMARY:Services for DeHaven Prillerman
DESCRIPTION:To my BPCA family\, my son’s funeral service will be on June 24th\, viewing starts at 1:30pm and services at 2:30pm. Service will be held at Mountain West Church 4818 Hugh Howell Rd Stone Mountain\, GA 30087
URL:https://blackporscheclubofatlanta.com/event/services-for-dehaven-prillerman/
ATTACH;FMTTYPE=image/jpeg:https://blackporscheclubofatlanta.com/wp-content/uploads/2023/06/Service.jpeg
END:VEVENT
BEGIN:VEVENT
DTSTART;TZID=America/New_York:20230617T170000
DTEND;TZID=America/New_York:20230617T190000
DTSTAMP:20260423T180236
CREATED:20240615T130009Z
LAST-MODIFIED:20240223T012210Z
UID:11562-1687021200-1687028400@blackporscheclubofatlanta.com
SUMMARY:Event: Juneteenth Parade
DESCRIPTION:The 2023 Juneteenth Atlanta Parade\, presented by Cisco. \nWhen & Where\nWe will lineup for the parade at 3:45PM at 2651 N Church St. East Point. The parade will start at 4:30PM. \nWhat To Expect\nThis year we will not be driving any dignitaries in the parade. They want us to display our cars after the parade and talk to the youth attending about some of our life experiences that led us to be successful.
URL:https://blackporscheclubofatlanta.com/event/event-juneteenth-parade/
END:VEVENT
BEGIN:VEVENT
DTSTART;TZID=America/New_York:20230609T110000
DTEND;TZID=America/New_York:20230609T160000
DTSTAMP:20260423T180236
CREATED:20230507T232939Z
LAST-MODIFIED:20230507T235159Z
UID:11517-1686308400-1686326400@blackporscheclubofatlanta.com
SUMMARY:[Meet Up] Festival of Dreams
DESCRIPTION:Porsche Experience Center Atlanta welcomes you to the Festival of Dreams event in celebration of the Porsche 75th Anniversary. Join us for an afternoon full of colorful dreams and inspiring experiences\, featuring track rides\, music\, great food\, and many more activities to enjoy! Purchase your tickets on the PEC website\, link found below. \nGeneral Admission: $50\nDemonstration Laps: $75\nSimulator Lab: $40
URL:https://blackporscheclubofatlanta.com/event/pull-up-festival-of-dreams/
LOCATION:Porsche Experience Center\, 1 Porsche Drive\, Atlanta\, Atlanta\, GA\, 30354\, United States
END:VEVENT
BEGIN:VEVENT
DTSTART;TZID=America/New_York:20230527T103000
DTEND;TZID=America/New_York:20230527T143000
DTSTAMP:20260423T180236
CREATED:20230507T234343Z
LAST-MODIFIED:20230507T235319Z
UID:11521-1685183400-1685197800@blackporscheclubofatlanta.com
SUMMARY:[Meet Up] Savoy Auto Museum
DESCRIPTION:Meet Up at the Savoy Auto Museum to view the 75 Years of Porsche exhibit.\nIn 1948\, Porsche launched the first model of the legendary brand. This exhibition celebrates 75 years\, showcasing some of the significant and iconic models produced by Porsche. \nGeneral Admission: $15
URL:https://blackporscheclubofatlanta.com/event/meet-up-savoy-auto-museum/
LOCATION:Savoy Auto Museum\, 3 Savoy Lane\, Cartersville\, GA\, United States
END:VEVENT
BEGIN:VEVENT
DTSTART;TZID=America/New_York:20230513T100000
DTEND;TZID=America/New_York:20230513T160000
DTSTAMP:20260423T180236
CREATED:20240518T130011Z
LAST-MODIFIED:20240223T012332Z
UID:11213-1683972000-1683993600@blackporscheclubofatlanta.com
SUMMARY:[Destination/Drive] Wolf Mountain Winery
DESCRIPTION:THIS IS A LIMITED PARTICIPATION EVENT – LIMIT 20 CARS \nBPCA trip to Wolf Mountain Winery in Dahlonega. There we will (optionally) participate in wine tasting of the Vineyard’s in house produced wines. We will be given a tour of the private car collection of Karl the winery owner – who has several Porsche and cars of interest. After which we will enjoy the beautiful views of the vineyards as we have lunch. RSVP TODAY!! \nCosts\nWine Tasting: $30 per person\nGarage Tour: free\nLunch: Menu item dependent \nLogistics\nDeparture: 10AM from Perimeter Mall – Green Lot.\nWine Tasting: 11:30AM\nGarage Tour: 12:30PM\nLunch: ~1:15PM
URL:https://blackporscheclubofatlanta.com/event/amp-wolf-mountain-winery/
CATEGORIES:Ride
END:VEVENT
BEGIN:VEVENT
DTSTART;TZID=America/New_York:20230430T120000
DTEND;TZID=America/New_York:20230430T150000
DTSTAMP:20260423T180236
CREATED:20230316T010316Z
LAST-MODIFIED:20230427T023049Z
UID:11312-1682856000-1682866800@blackporscheclubofatlanta.com
SUMMARY:[External] Meet up at Pontoon Brewing
DESCRIPTION:For those who are interested in mixing it up with other P-car enthusiasts while representing the BPCA\, we share and encourage you to attend the Atlanta Porsche Enthusiasts spring event at Pontoon Brewing with host Matt LaMarsh. \n***********************************\nWe will meet up at Perimeter mall’s Red lot near Maggiano’s at 12 noon to roll into the event together \n*************************************** \nAtlanta Porsche Enthusiasts is a group of Porsche enthusiasts who get together for drives\, meet ups and discussion much like PCA or BPCA. \nPontoon Brewing is an Atlanta-based beer company brewing up radically awesome brews for the Pontoon lifestyle.
URL:https://blackporscheclubofatlanta.com/event/external-meet-up-at-pontoon-brewing/
LOCATION:Pontoon Brewing\, 8601 Dunwoody Place Building 500 Suite 500\, Sandy Springs\, GA\, 30350\, United States
CATEGORIES:Meet Ups
ATTACH;FMTTYPE=image/jpeg:https://blackporscheclubofatlanta.com/wp-content/uploads/2023/03/Atlanta-Porsche-Enthusiasts.jpg
END:VEVENT
BEGIN:VEVENT
DTSTART;TZID=America/New_York:20230324T080000
DTEND;TZID=America/New_York:20230324T170000
DTSTAMP:20260423T180236
CREATED:20230313T020608Z
LAST-MODIFIED:20230324T031145Z
UID:11300-1679644800-1679677200@blackporscheclubofatlanta.com
SUMMARY:External: International GT
DESCRIPTION:**RAIN CHANGES**\nThey are calling for a 91% chance of rain Saturday\, so we are canceling Saturday and are going up tomorrow Friday the 24th \nFor those members who want to go up to the Trans AM Atlanta Speed Tour\, we will be meeting at 8:30am this Saturday March 25th at Northcrest Driving Range parking lot\, off of Northcrest and 85N. \nKurt from Ultra Performance wants us to be there around 9:30am so he can get us into the track. But we have to be there by 9:30 because they will be preparing their car for the 10:25am race
URL:https://blackporscheclubofatlanta.com/event/external-international-gt/
CATEGORIES:Race
ATTACH;FMTTYPE=image/jpeg:https://blackporscheclubofatlanta.com/wp-content/uploads/2023/03/Image.jpeg
END:VEVENT
BEGIN:VEVENT
DTSTART;VALUE=DATE:20230303
DTEND;VALUE=DATE:20230304
DTSTAMP:20260423T180236
CREATED:20240301T130046Z
LAST-MODIFIED:20240223T012629Z
UID:11185-1677801600-1677887999@blackporscheclubofatlanta.com
SUMMARY:The Werks Reunion: Amelia Island
DESCRIPTION:Schedule\n\n\n\n7:00 AM\nEvent Check-in Opens\n\n\n7:00 – 9:00 AM\nRegistered Judged Cars placed on judging field\n\n\nAll Day\nPorsche Corral open to registered cars\nSpectator Parking Lot open ($40 cash)\n\n\n7:00 – 10:00 AM\nCoffee and breakfast items available for purchase\n\n\n9:30 – 12:00 PM\nJudging\n\n\n10:00 – 4:00 PM\nBars open with beer & wine for purchase\n\n\n10:30 – 12:00PM\nYouth Judging sponsored by Hagerty\n\n\n11:30 – 1:00 PM\nLunch available for purchase\n\n\n2:00 – 3:00 PM\nAwards Ceremony\n\n\nAll Day\nView cars\, visit vendors\, and have fun!\n\n\n\n  \nOnsite spectator parking -$40 cash at the gate \nPorsche Club of America (PCA) welcomes all Porsche clubs\, owners\, and enthusiasts to the seventh annual Werks Reunion Amelia Island on March 3\, 2023\, the Friday preceding the Amelia Island Concours d’Elegance. Join us at the The Amelia River Club to see a breathtaking array of Porsches\, from rare to current models\, and everything in between! \nYou are not required to be a PCA member to participate in this celebration of Porsche automobiles; however\, you must register to Corral or be Judged. Display your cherished car in model-specific Porsche Corrals\, or enter the Porsche Judged Field and compete to win in more than 20 prize categories. \nWerks Reunion was created by the Porsche Club of America as an event to celebrate both the Porsche marque as well as the camaraderie of being an enthusiast. This is not a contest of who has removed dust from the deepest crevices in their Porsche but rather a judged show that rewards a Porsche that has been lovingly maintained and presents itself well on the field. Our judges do not use Porsche Parade Concours score sheets but rather rank the cars according to certain attributes discussed prior to judging. For those who do not wish to have their cars judged\, you may display in the model specific corrals or if the organizers see fit\, on the judged field itself. There are no score sheets returned or protest committees. This is a casual gathering of Porsche enthusiasts focused on having fun rather than solely competition.
URL:https://blackporscheclubofatlanta.com/event/the-werks-reunion-amelia-island/
LOCATION:The Amelia River Club\, 4477 Buccaneer Trail\, Amelia Island\, FL\, 32034\, United States
END:VEVENT
END:VCALENDAR